BEGIN:VCALENDAR
VERSION:2.0
PRODID:-//Accur
CALSCALE:GREGORIAN
METHOD:PUBLISH
X-WR-CALNAME:Accur
X-ORIGINAL-URL:https://accur.org/product/accur-webinar-on-ubo-registermeeting-2024-copy/
X-WR-CALDESC:ACCUR Webinar on UBO register
BEGIN:VEVENT
DTSTART:20241031T160000
DTEND:20241031T170000
SUMMARY:ACCUR Webinar on UBO register
DESCRIPTION:
URL:https://accur.org/product/accur-webinar-on-ubo-registermeeting-2024-copy/
LOCATION:Webinar
END:VEVENT
END:VCALENDAR
